BEGIN:VCALENDAR
VERSION:2.0
PRODID:-//eventon.com NONSGML v1.0//EN
CALSCALE:GREGORIAN
METHOD:PUBLISH
BEGIN:VEVENT
UID:69e9dbe13a875
DTSTAMP:20260423T084417Z
DTSTART:20220402T060000Z
DTEND:20220402T140000Z
LOCATION:Sinbads Restaurant and Marina 100 St. Clair
SUMMARY:MOMC Spring Walleye Classic
DESCRIPTION:[vc_row][vc_column][vc_column_text] Heaviest Five (5) Walleye C
 ombined &#8211; per Team Payout for 1st\,  2nd &amp; 3rd Fishing Hours – 
 6:30 AM to 1:30 PM\,  shotgun Start at 6:30 from Sinbads Weigh-In Time &#82
 11; 2:00 PM at Sinbads Awards Ceremony at 3 PM Entry Open to the Public Man
 datory Captain’s Meeting Friday[..]\nhttps://www.lscmomc.com/events/2020w
 alleye/
URL:https://www.lscmomc.com/events/2020walleye/
END:VEVENT
END:VCALENDAR